Workbook

Sheet Control System
C1: Washtenaw Community College - Request for Bid # 6902 | D1: Project Start Date: April 10, 2027
C2: OE 131 Enhanced Classroom AV | D2: Completion on or before: May 30, 2027.
C3: Responses due September 21st, 2026, 2:00pm EDT.
A4: Part # | B4: Manufacturer | C4: Description | D4: QTY | E4: Unit Price | F4: Total Price | G4: Link
C5: Displays
A6: V11H919520 | B6: Epson | C6: Brightlink 1485Fi - 5,000 Lumen Interactive Projector | D6: 1 | F6: =SUM(E6)*(D6) -> 0
A7: 65UR340C9UD | B7: LG Electronics | C7: 65 in 4K UHD Commercial Display | D7: 1 | F7: =SUM(E7)*(D7) -> 0
E9: Sub-Total | F9: =SUM(F6:F7) -> 0
C11: Signal Transmission
A12: 42-361-01 | B12: Extron | C12: UCS 504 - 4x2 4K Collaboration Switcher & Scaling Receiver | D12: 1 | F12: =SUM(E12)*(D12) -> 0
A13: 60-1524-12 | B13: Extron | C13: XTP T HD 4K - XTP 4K Transmitter with HDMI Loop-Out | D13: 1 | F13: =SUM(E13)*(D13) -> 0
A14: 60-1524-02 | B14: Extron | C14: XTP SR HD 4K - XTP HDMI Scaling Receiver | D14: 1 | F14: =SUM(E14)*(D14) -> 0
A15: 60-1271-12 | B15: Extron | C15: DTP HDMI 4K 230 TX - DTP HDMI 4K Transmitter | D15: 1 | F15: =SUM(E15)*(D15) -> 0
A16: 60-1271-13 | B16: Extron | C16: DTP HDMI 4K 230 RX - DTP HDMI 4K Receiver | D16: 1 | F16: =SUM(E16)*(D16) -> 0
E18: Sub-Total | F18: =SUM(F12:F16) -> 0
C20: Cables
A21: USB5G-CC-6PROBLK | B21: Comprehensive | C21: USB 3.0 - 5Gbps - USB-C 6ft. Cable | D21: 1 | F21: =SUM('Control System'!$E21*'Control System'!$D21) -> 0
A22: USB2-AB-10ST | B22: Comprehensive | C22: USB 2.0 - USB-A To USB-B - 10ft Cable | D22: 1 | F22: =SUM('Control System'!$E22*'Control System'!$D22) -> 0
A23: USB5G-AB-6PROBLK | B23: Comprehensive | C23: USB 3.0 - 5Gbps - USB-A to USB-B - 6ft Cable | D23: 2 | F23: =SUM('Control System'!$E23*'Control System'!$D23) -> 0
A24: HD18G-9PROBLK | B24: Comprehensive | C24: Pro AV/IT 18G HDMI - 9ft Cable | D24: 3 | F24: =SUM('Control System'!$E24*'Control System'!$D24) -> 0
A25: HD18G-6PROBLK | B25: Comprehensive | C25: Pro AV/IT 18G HDMI - 6ft Cable | D25: 5 | F25: =SUM('Control System'!$E25*'Control System'!$D25) -> 0
A26: WPPT-HD1_AC | B26: Comprehensive | C26: HDMI Passthrough Single Gang Aluminum Wall Plate w/ Pigtail | D26: 1 | F26: =SUM('Control System'!$E26*'Control System'!$D26) -> 0
A27: NSAV1W | B27: Hubbell | C27: 1 Gang, Recessed Cable PassThrough, White | D27: 1 | F27: =SUM('Control System'!$E27*'Control System'!$D27) -> 0
E28: Sub-Total | F28: =SUM(F21:F27) -> 0
C30: Mounts and Accessories
A31: V12HA06A05 | B31: Epson | C31: ELPMB62 Ultra-Short Throw Wall Mount | D31: 1 | F31: =SUM('Control System'!$E31*'Control System'!$D31) -> 0
A32: TS525TU | B32: Chief Manufacturing | C32: Large Thinstall Dual Swing Arm Wall Display Mount | D32: 1 | F32: =SUM('Control System'!$E32*'Control System'!$D32) -> 0
A33: CSMP9X12 | B33: Chief Manufacturing | C33: Proximity Component Storage Panel | D33: 2 | F33: =SUM('Control System'!$E33*'Control System'!$D33) -> 0
A34: CMS492CP2 | B34: Chief Manufacturing | C34: 2'x2' Above Suspended Ceiling Storage Box with 2-Gang Surge | D34: 1 | F34: =SUM('Control System'!$E34*'Control System'!$D34) -> 0
A35: CMSFAN | B35: Chief Manufacturing | C35: Ceiling Storage Box Fan Kit | D35: 1 | F35: =SUM('Control System'!$E35*'Control System'!$D35) -> 0
A36: EGX-SF2 | B36: Chief Manufacturing | C36: Power Filtering & Surge Protection Wall Outlet | D36: 1 | F36: =SUM('Control System'!$E36*'Control System'!$D36) -> 0
E38: Sub-Total | F38: =SUM(F31:F36) -> 0
C40: Whiteboards
A41: V12H006A02 | B41: Epson | C41: 100" Whiteboard for Projection and Dry-erase | D41: 1 | F41: =SUM('Control System'!$E41*'Control System'!$D41) -> 0
A42: LCS2044R | B42: Claridge | C42: 4ft x 4ft Marker Board w/ Map Rail, 5/8in Aluminum Trim and Marker Tray | D42: 1 | F42: =SUM('Control System'!$E42*'Control System'!$D42) -> 0
A43: LCS2046R | B43: Claridge | C43: 4ft x 6ft Marker Board w/ Map Rail, 5/8in Aluminum Trim and Marker Tray | D43: 1 | F43: =SUM('Control System'!$E43*'Control System'!$D43) -> 0
E45: Sub-Total | F45: =SUM(F41:F43) -> 0
C47: Equipment Sub-Total | F47: =SUM(F9,F18,F28,F38,F45) -> 0
C48: Incidentals | F48: =VALUE(E48) -> 0
C49: Installation | F49: =SUM(E48:E49) -> 0
E51: Grand Total | F51: =SUM(F47:F49) -> 0
A53: Name:
A54: Title:
A55: Company Name:
A56: Signature:
